BEGIN:VCALENDAR
VERSION:2.0
PRODID:-//wp-events-plugin.com//7.2.3.1//EN
TZID:Europe/Berlin
X-WR-TIMEZONE:Europe/Berlin
BEGIN:VEVENT
UID:13@3dconcepts.de
DTSTART;TZID=Europe/Berlin;VALUE=DATE:20240708
DTEND;TZID=Europe/Berlin;VALUE=DATE:20240712
DTSTAMP:20240322T121748Z
URL:https://3dconcepts.de/events/schulung-edgecam-4/
SUMMARY:Schulung EdgeCAM
DESCRIPTION:Sie erhalten Rabatte auf die Schulung ab einer Teilnehmerzahl v
 on 3 Mitarbeiter*innen. \nAlle Details vereinbaren wir gerne mit Ihnen per
 sönlich.
LOCATION:Chemnitz\, Bornaer Str. 205\, Chemnitz \, 09114 \, Deutschland
GEO:50.869345;12.907767
X-APPLE-STRUCTURED-LOCATION;VALUE=URI;X-ADDRESS=Bornaer Str. 205\, Chemnitz
  \, 09114 \, Deutschland;X-APPLE-RADIUS=100;X-TITLE=Chemnitz:geo:50.869345
 ,12.907767
END:VEVENT
BEGIN:VTIMEZONE
TZID:Europe/Berlin
X-LIC-LOCATION:Europe/Berlin
BEGIN:DAYLIGHT
DTSTART:20240331T030000
TZOFFSETFROM:+0100
TZOFFSETTO:+0200
TZNAME:CEST
END:DAYLIGHT
END:VTIMEZONE
END:VCALENDAR