BEGIN:VCALENDAR
VERSION:2.0
PRODID:-//wp-events-plugin.com//7.2.3.1//EN
TZID:Europe/Berlin
X-WR-TIMEZONE:Europe/Berlin
BEGIN:VEVENT
UID:10@3dconcepts.de
DTSTART;TZID=Europe/Berlin;VALUE=DATE:20240617
DTEND;TZID=Europe/Berlin;VALUE=DATE:20240621
DTSTAMP:20240322T121525Z
URL:https://3dconcepts.de/events/schulung-edgecam-3/
SUMMARY:Schulung EdgeCAM
DESCRIPTION:Sie erhalten Rabatte auf die Schulung ab einer Teilnehmerzahl v
 on 3 Mitarbeiter*innen. \nAlle Details vereinbaren wir gerne mit Ihnen per
 sönlich.
LOCATION:Oberndorf\, Am Römerhof\, Oberndorf am Neckar  \, 78727\, Deutsch
 land
GEO:48.295292;8.629566
X-APPLE-STRUCTURED-LOCATION;VALUE=URI;X-ADDRESS=Am Römerhof\, Oberndorf am
  Neckar  \, 78727\, Deutschland;X-APPLE-RADIUS=100;X-TITLE=Oberndorf:geo:4
 8.295292,8.629566
END:VEVENT
BEGIN:VTIMEZONE
TZID:Europe/Berlin
X-LIC-LOCATION:Europe/Berlin
BEGIN:DAYLIGHT
DTSTART:20240331T030000
TZOFFSETFROM:+0100
TZOFFSETTO:+0200
TZNAME:CEST
END:DAYLIGHT
END:VTIMEZONE
END:VCALENDAR