BEGIN:VCALENDAR
VERSION:2.0
PRODID:-//wp-events-plugin.com//7.2.3.1//EN
TZID:Europe/Berlin
X-WR-TIMEZONE:Europe/Berlin
BEGIN:VEVENT
UID:23@3dconcepts.de
DTSTART;TZID=Europe/Berlin:20241125T090000
DTEND;TZID=Europe/Berlin:20241127T100000
DTSTAMP:20240322T122026Z
URL:https://3dconcepts.de/events/schulung-designer-4/
SUMMARY:Schulung Designer
DESCRIPTION:Sie erhalten Rabatte auf die Schulung ab einer Teilnehmerzahl v
 on 3 Mitarbeiter*innen. \nAlle Details vereinbaren wir gerne mit Ihnen per
 sönlich.
LOCATION:Würselen\, Industriestraße 1\, Würselen\, 52146\, Deutschland
GEO:50.830685;6.133716
X-APPLE-STRUCTURED-LOCATION;VALUE=URI;X-ADDRESS=Industriestraße 1\, Würse
 len\, 52146\, Deutschland;X-APPLE-RADIUS=100;X-TITLE=Würselen:geo:50.8306
 85,6.133716
END:VEVENT
BEGIN:VTIMEZONE
TZID:Europe/Berlin
X-LIC-LOCATION:Europe/Berlin
BEGIN:STANDARD
DTSTART:20241027T020000
TZOFFSETFROM:+0200
TZOFFSETTO:+0100
TZNAME:CET
END:STANDARD
END:VTIMEZONE
END:VCALENDAR