BEGIN:VCALENDAR
VERSION:2.0
PRODID:-//wp-events-plugin.com//7.2.3.1//EN
TZID:Europe/Berlin
X-WR-TIMEZONE:Europe/Berlin
BEGIN:VEVENT
UID:3@3dconcepts.de
DTSTART;TZID=Europe/Berlin;VALUE=DATE:20240304
DTEND;TZID=Europe/Berlin;VALUE=DATE:20240307
DTSTAMP:20240306T103259Z
URL:https://3dconcepts.de/events/schulung-3/
SUMMARY:Schulung SurfCAM
DESCRIPTION:Sie erhalten Rabatte auf die Schulung ab einer Teilnehmerzahl v
 on 3 Mitarbeiter*innen. \nAlle Details vereinbaren wir gerne mit Ihnen per
 sönlich.
LOCATION:Würselen\, Industriestraße 1\, Würselen\, 52146\, Deutschland
X-APPLE-STRUCTURED-LOCATION;VALUE=URI;X-ADDRESS=Industriestraße 1\, Würse
 len\, 52146\, Deutschland;X-APPLE-RADIUS=100;X-TITLE=Würselen:geo:0,0
END:VEVENT
BEGIN:VTIMEZONE
TZID:Europe/Berlin
X-LIC-LOCATION:Europe/Berlin
BEGIN:STANDARD
DTSTART:20231029T020000
TZOFFSETFROM:+0200
TZOFFSETTO:+0100
TZNAME:CET
END:STANDARD
END:VTIMEZONE
END:VCALENDAR