BEGIN:VCALENDAR
VERSION:2.0
PRODID:-//wp-events-plugin.com//7.2.3.1//EN
TZID:Europe/Berlin
X-WR-TIMEZONE:Europe/Berlin
BEGIN:VEVENT
UID:22@3dconcepts.de
DTSTART;TZID=Europe/Berlin;VALUE=DATE:20241111
DTEND;TZID=Europe/Berlin;VALUE=DATE:20241114
DTSTAMP:20240322T122049Z
URL:https://3dconcepts.de/en/events/schulung-surfcam-5/
SUMMARY:Schulung SurfCAM
DESCRIPTION:Sie erhalten Rabatte auf die Schulung ab einer Teilnehmerzahl v
 on 3 Mitarbeiter*innen. \nAlle Details vereinbaren wir gerne mit Ihnen per
 sönlich.
LOCATION:Oberndorf\, Am Römerhof\, Oberndorf am Neckar  \, 78727\, Germany
GEO:48.295292;8.629566
X-APPLE-STRUCTURED-LOCATION;VALUE=URI;X-ADDRESS=Am Römerhof\, Oberndorf am
  Neckar  \, 78727\, Germany;X-APPLE-RADIUS=100;X-TITLE=Oberndorf:geo:48.29
 5292,8.629566
END:VEVENT
BEGIN:VTIMEZONE
TZID:Europe/Berlin
X-LIC-LOCATION:Europe/Berlin
BEGIN:STANDARD
DTSTART:20241027T020000
TZOFFSETFROM:+0200
TZOFFSETTO:+0100
TZNAME:CET
END:STANDARD
END:VTIMEZONE
END:VCALENDAR