BEGIN:VCALENDAR
VERSION:2.0
PRODID:-//wp-events-plugin.com//7.2.3.1//EN
TZID:Europe/Berlin
X-WR-TIMEZONE:Europe/Berlin
BEGIN:VEVENT
UID:9@3dconcepts.de
DTSTART;TZID=Europe/Berlin;VALUE=DATE:20240610
DTEND;TZID=Europe/Berlin;VALUE=DATE:20240614
DTSTAMP:20240322T121428Z
URL:https://3dconcepts.de/en/events/schulung-edgecam-2/
SUMMARY:Schulung EdgeCAM
DESCRIPTION:Sie erhalten Rabatte auf die Schulung ab einer Teilnehmerzahl v
 on 3 Mitarbeiter. \nAlle Details vereinbaren wir gerne mit Ihnen persönli
 ch.
LOCATION:Würselen\, Industriestraße 1\, Würselen\, 52146\, Germany
GEO:50.830685;6.133716
X-APPLE-STRUCTURED-LOCATION;VALUE=URI;X-ADDRESS=Industriestraße 1\, Würse
 len\, 52146\, Germany;X-APPLE-RADIUS=100;X-TITLE=Würselen:geo:50.830685,6
 .133716
END:VEVENT
BEGIN:VTIMEZONE
TZID:Europe/Berlin
X-LIC-LOCATION:Europe/Berlin
BEGIN:DAYLIGHT
DTSTART:20240331T030000
TZOFFSETFROM:+0100
TZOFFSETTO:+0200
TZNAME:CEST
END:DAYLIGHT
END:VTIMEZONE
END:VCALENDAR